BEGIN:VCALENDAR
VERSION:2.0
PRODID:-//Beaconsfield Primary School - ECPv4.8.2//NONSGML v1.0//EN
CALSCALE:GREGORIAN
METHOD:PUBLISH
X-WR-CALNAME:Beaconsfield Primary School
X-ORIGINAL-URL:https://www.beaconsfieldps.wa.edu.au
X-WR-CALDESC:Events for Beaconsfield Primary School
BEGIN:VEVENT
DTSTART;VALUE=DATE:20190528
DTEND;VALUE=DATE:20190529
DTSTAMP:20200302T032650
CREATED:20190515T040323Z
LAST-MODIFIED:20190515T040323Z
UID:4512-1559001600-1559087999@www.beaconsfieldps.wa.edu.au
SUMMARY:Year 5 Excursion to Shipwreck Galleries
DESCRIPTION:
URL:https://www.beaconsfieldps.wa.edu.au/event/year-5-excursion-to-shipwreck-galleries/
END:VEVENT
END:VCALENDAR