BEGIN:VCALENDAR
VERSION:2.0
PRODID:-//Beaconsfield Primary School - ECPv4.8.2//NONSGML v1.0//EN
CALSCALE:GREGORIAN
METHOD:PUBLISH
X-WR-CALNAME:Beaconsfield Primary School
X-ORIGINAL-URL:https://www.beaconsfieldps.wa.edu.au
X-WR-CALDESC:Events for Beaconsfield Primary School
BEGIN:VEVENT
DTSTART;TZID=Australia/Perth:20200305T143000
DTEND;TZID=Australia/Perth:20200305T150000
DTSTAMP:20200229T052314
CREATED:20200217T011240Z
LAST-MODIFIED:20200217T011240Z
UID:4924-1583418600-1583420400@www.beaconsfieldps.wa.edu.au
SUMMARY:Year 1 Parent Literacy Session
DESCRIPTION:
URL:https://www.beaconsfieldps.wa.edu.au/event/year-1-parent-literacy-session/
END:VEVENT
END:VCALENDAR