BEGIN:VCALENDAR
VERSION:2.0
PRODID:-//Beaconsfield Primary School - ECPv4.8.2//NONSGML v1.0//EN
CALSCALE:GREGORIAN
METHOD:PUBLISH
X-WR-CALNAME:Beaconsfield Primary School
X-ORIGINAL-URL:https://www.beaconsfieldps.wa.edu.au
X-WR-CALDESC:Events for Beaconsfield Primary School
BEGIN:VEVENT
DTSTART;TZID=Australia/Perth:20191028T080000
DTEND;TZID=Australia/Perth:20191028T170000
DTSTAMP:20200302T032450
CREATED:20191024T051450Z
LAST-MODIFIED:20191024T051450Z
UID:4707-1572249600-1572282000@www.beaconsfieldps.wa.edu.au
SUMMARY:Senior swimming starts
DESCRIPTION:
URL:https://www.beaconsfieldps.wa.edu.au/event/senior-swimming-starts/
END:VEVENT
END:VCALENDAR