BEGIN:VCALENDAR
VERSION:2.0
PRODID:-//Beaconsfield Primary School - ECPv4.8.2//NONSGML v1.0//EN
CALSCALE:GREGORIAN
METHOD:PUBLISH
X-WR-CALNAME:Beaconsfield Primary School
X-ORIGINAL-URL:https://www.beaconsfieldps.wa.edu.au
X-WR-CALDESC:Events for Beaconsfield Primary School
BEGIN:VEVENT
DTSTART;VALUE=DATE:20180414
DTEND;VALUE=DATE:20180430
DTSTAMP:20200302T032958
CREATED:20180731T011224Z
LAST-MODIFIED:20180731T011224Z
UID:3825-1523664000-1525046399@www.beaconsfieldps.wa.edu.au
SUMMARY:School Holidays
DESCRIPTION:Autumn Holidays \n
URL:https://www.beaconsfieldps.wa.edu.au/event/school-holidays/
END:VEVENT
END:VCALENDAR