BEGIN:VCALENDAR
VERSION:2.0
PRODID:-//Beaconsfield Primary School - ECPv4.8.2//NONSGML v1.0//EN
CALSCALE:GREGORIAN
METHOD:PUBLISH
X-WR-CALNAME:Beaconsfield Primary School
X-ORIGINAL-URL:https://www.beaconsfieldps.wa.edu.au
X-WR-CALDESC:Events for Beaconsfield Primary School
BEGIN:VEVENT
DTSTART;VALUE=DATE:20190928
DTEND;VALUE=DATE:20191014
DTSTAMP:20200229T051251
CREATED:20190204T081904Z
LAST-MODIFIED:20190204T081904Z
UID:4256-1569628800-1571011199@www.beaconsfieldps.wa.edu.au
SUMMARY:School Holidays
DESCRIPTION:Spring Holidays \n
URL:https://www.beaconsfieldps.wa.edu.au/event/school-holidays-7/
END:VEVENT
END:VCALENDAR