BEGIN:VCALENDAR
VERSION:2.0
PRODID:-//Beaconsfield Primary School - ECPv4.8.2//NONSGML v1.0//EN
CALSCALE:GREGORIAN
METHOD:PUBLISH
X-WR-CALNAME:Beaconsfield Primary School
X-ORIGINAL-URL:https://www.beaconsfieldps.wa.edu.au
X-WR-CALDESC:Events for Beaconsfield Primary School
BEGIN:VEVENT
DTSTART;TZID=Australia/Perth:20200313T090000
DTEND;TZID=Australia/Perth:20200313T100000
DTSTAMP:20200229T052352
CREATED:20200217T011759Z
LAST-MODIFIED:20200217T011759Z
UID:4941-1584090000-1584093600@www.beaconsfieldps.wa.edu.au
SUMMARY:Room 12 Assembly
DESCRIPTION:
URL:https://www.beaconsfieldps.wa.edu.au/event/room-12-assembly-2/
END:VEVENT
END:VCALENDAR