BEGIN:VCALENDAR
VERSION:2.0
PRODID:-//Beaconsfield Primary School - ECPv4.8.2//NONSGML v1.0//EN
CALSCALE:GREGORIAN
METHOD:PUBLISH
X-WR-CALNAME:Beaconsfield Primary School
X-ORIGINAL-URL:https://www.beaconsfieldps.wa.edu.au
X-WR-CALDESC:Events for Beaconsfield Primary School
BEGIN:VEVENT
DTSTART;VALUE=DATE:20200302
DTEND;VALUE=DATE:20200303
DTSTAMP:20200229T052233
CREATED:20200217T010702Z
LAST-MODIFIED:20200217T010702Z
UID:4909-1583107200-1583193599@www.beaconsfieldps.wa.edu.au
SUMMARY:Public holiday
DESCRIPTION:
URL:https://www.beaconsfieldps.wa.edu.au/event/public-holiday-2/
END:VEVENT
END:VCALENDAR