BEGIN:VCALENDAR
VERSION:2.0
PRODID:-//Beaconsfield Primary School - ECPv4.8.2//NONSGML v1.0//EN
CALSCALE:GREGORIAN
METHOD:PUBLISH
X-WR-CALNAME:Beaconsfield Primary School
X-ORIGINAL-URL:https://www.beaconsfieldps.wa.edu.au
X-WR-CALDESC:Events for Beaconsfield Primary School
BEGIN:VEVENT
DTSTART;VALUE=DATE:20190501
DTEND;VALUE=DATE:20190502
DTSTAMP:20200302T033114
CREATED:20190409T051402Z
LAST-MODIFIED:20190409T051406Z
UID:4484-1556668800-1556755199@www.beaconsfieldps.wa.edu.au
SUMMARY:Pre-primary\, Year 1 and 2 swimming lessons start.
DESCRIPTION:
URL:https://www.beaconsfieldps.wa.edu.au/event/pre-primary-year-1-and-2-swimming-lessons-start/
END:VEVENT
END:VCALENDAR