BEGIN:VCALENDAR
VERSION:2.0
PRODID:-//Beaconsfield Primary School - ECPv4.8.2//NONSGML v1.0//EN
CALSCALE:GREGORIAN
METHOD:PUBLISH
X-WR-CALNAME:Beaconsfield Primary School
X-ORIGINAL-URL:https://www.beaconsfieldps.wa.edu.au
X-WR-CALDESC:Events for Beaconsfield Primary School
BEGIN:VEVENT
DTSTART;TZID=Australia/Perth:20190330T090000
DTEND;TZID=Australia/Perth:20190330T120000
DTSTAMP:20200302T032041
CREATED:20190327T082632Z
LAST-MODIFIED:20190327T082632Z
UID:4365-1553936400-1553947200@www.beaconsfieldps.wa.edu.au
SUMMARY:Kitchen Garden Busy Bee
DESCRIPTION:Please help us prepare the Kitchen Garden for our Bunnings makeover. \n
URL:https://www.beaconsfieldps.wa.edu.au/event/kitchen-garden-busy-bee/
END:VEVENT
END:VCALENDAR