BEGIN:VCALENDAR
VERSION:2.0
PRODID:-//Beaconsfield Primary School - ECPv4.8.2//NONSGML v1.0//EN
CALSCALE:GREGORIAN
METHOD:PUBLISH
X-WR-CALNAME:Beaconsfield Primary School
X-ORIGINAL-URL:https://www.beaconsfieldps.wa.edu.au
X-WR-CALDESC:Events for Beaconsfield Primary School
BEGIN:VEVENT
DTSTART;TZID=Australia/Perth:20191122T080000
DTEND;TZID=Australia/Perth:20191122T170000
DTSTAMP:20200302T025945
CREATED:20191114T122116Z
LAST-MODIFIED:20191114T122116Z
UID:4795-1574409600-1574442000@www.beaconsfieldps.wa.edu.au
SUMMARY:Kindy Orientation - Day One
DESCRIPTION:
URL:https://www.beaconsfieldps.wa.edu.au/event/kindy-orientation-day-one/
END:VEVENT
END:VCALENDAR