BEGIN:VCALENDAR
VERSION:2.0
PRODID:-//Beaconsfield Primary School - ECPv4.8.2//NONSGML v1.0//EN
CALSCALE:GREGORIAN
METHOD:PUBLISH
X-WR-CALNAME:Beaconsfield Primary School
X-ORIGINAL-URL:https://www.beaconsfieldps.wa.edu.au
X-WR-CALDESC:Events for Beaconsfield Primary School
BEGIN:VEVENT
DTSTART;TZID=Australia/Perth:20200507T120000
DTEND;TZID=Australia/Perth:20200507T150000
DTSTAMP:20200302T032556
CREATED:20200217T012051Z
LAST-MODIFIED:20200217T012051Z
UID:4950-1588852800-1588863600@www.beaconsfieldps.wa.edu.au
SUMMARY:Half day school closure for parent interviews
DESCRIPTION:
URL:https://www.beaconsfieldps.wa.edu.au/event/half-day-school-closure-for-parent-interviews/
END:VEVENT
END:VCALENDAR