BEGIN:VCALENDAR
VERSION:2.0
PRODID:-//Beaconsfield Primary School - ECPv4.8.2//NONSGML v1.0//EN
CALSCALE:GREGORIAN
METHOD:PUBLISH
X-WR-CALNAME:Beaconsfield Primary School
X-ORIGINAL-URL:https://www.beaconsfieldps.wa.edu.au
X-WR-CALDESC:Events for Beaconsfield Primary School
BEGIN:VEVENT
DTSTART;TZID=Australia/Perth:20190628T113000
DTEND;TZID=Australia/Perth:20190628T130000
DTSTAMP:20200302T031914
CREATED:20190520T043626Z
LAST-MODIFIED:20190613T073718Z
UID:4565-1561721400-1561726800@www.beaconsfieldps.wa.edu.au
SUMMARY:Cross Country carnival
DESCRIPTION:
URL:https://www.beaconsfieldps.wa.edu.au/event/cross-country-carnival/
END:VEVENT
END:VCALENDAR