BEGIN:VCALENDAR
VERSION:2.0
PRODID:-//Beaconsfield Primary School - ECPv4.8.2//NONSGML v1.0//EN
CALSCALE:GREGORIAN
METHOD:PUBLISH
X-WR-CALNAME:Beaconsfield Primary School
X-ORIGINAL-URL:https://www.beaconsfieldps.wa.edu.au
X-WR-CALDESC:Events for Beaconsfield Primary School
BEGIN:VEVENT
DTSTART;TZID=Australia/Perth:20191119T080000
DTEND;TZID=Australia/Perth:20191119T170000
DTSTAMP:20200302T032318
CREATED:20191114T121717Z
LAST-MODIFIED:20191114T121717Z
UID:4784-1574150400-1574182800@www.beaconsfieldps.wa.edu.au
SUMMARY:Choir at St Paul's
DESCRIPTION:
URL:https://www.beaconsfieldps.wa.edu.au/event/choir-at-st-pauls/
END:VEVENT
END:VCALENDAR