BEGIN:VCALENDAR
VERSION:2.0
PRODID:-//Beaconsfield Primary School - ECPv4.8.2//NONSGML v1.0//EN
CALSCALE:GREGORIAN
METHOD:PUBLISH
X-WR-CALNAME:Beaconsfield Primary School
X-ORIGINAL-URL:https://www.beaconsfieldps.wa.edu.au
X-WR-CALDESC:Events for Beaconsfield Primary School
BEGIN:VEVENT
DTSTART;TZID=Australia/Perth:20190503T090000
DTEND;TZID=Australia/Perth:20190503T100000
DTSTAMP:20200302T032756
CREATED:20190409T051504Z
LAST-MODIFIED:20190409T051507Z
UID:4487-1556874000-1556877600@www.beaconsfieldps.wa.edu.au
SUMMARY:ANZAC Assembly
DESCRIPTION:
URL:https://www.beaconsfieldps.wa.edu.au/event/anzac-assembly/
END:VEVENT
END:VCALENDAR